Package: SpectriPy Version: 1.0.0 Command: /Library/Frameworks/R.framework/Resources/bin/R CMD build --keep-empty-dirs --no-resave-data SpectriPy StartedAt: 2025-11-10 17:52:04 -0500 (Mon, 10 Nov 2025) EndedAt: 2025-11-10 17:52:13 -0500 (Mon, 10 Nov 2025) EllapsedTime: 9.1 seconds RetCode: 1 Status: ERROR PackageFile: None PackageFileSize: NA