Package: SpectralTAD Version: 1.26.0 Command: /home/biocbuild/bbs-3.22-bioc/R/bin/R CMD check --install=check:SpectralTAD.install-out.txt --library=/home/biocbuild/bbs-3.22-bioc/R/site-library --timings SpectralTAD_1.26.0.tar.gz StartedAt: 2025-11-12 04:31:34 -0500 (Wed, 12 Nov 2025) EndedAt: 2025-11-12 04:34:51 -0500 (Wed, 12 Nov 2025) EllapsedTime: 197.2 seconds RetCode: 0 Status: OK CheckDir: SpectralTAD.Rcheck Warnings: 0