Package: SpectralTAD Version: 1.26.0 Command: /home/biocbuild/bbs-3.22-bioc/R/bin/R CMD build --keep-empty-dirs --no-resave-data --md5 SpectralTAD StartedAt: 2025-11-11 20:24:56 -0500 (Tue, 11 Nov 2025) EndedAt: 2025-11-11 20:26:33 -0500 (Tue, 11 Nov 2025) EllapsedTime: 97.1 seconds RetCode: 0 Status: OK PackageFile: SpectralTAD_1.26.0.tar.gz PackageFileSize: 1.493 MiB