Package: SpectraQL Version: 1.4.0 Command: /home/biocbuild/R/R/bin/R CMD build --keep-empty-dirs --no-resave-data SpectraQL StartedAt: 2025-11-14 05:38:03 -0000 (Fri, 14 Nov 2025) EndedAt: 2025-11-14 05:38:30 -0000 (Fri, 14 Nov 2025) EllapsedTime: 27.0 seconds RetCode: 0 Status: OK PackageFile: SpectraQL_1.4.0.tar.gz PackageFileSize: 487.8 KiB