Package: SpectraQL Version: 1.4.0 Command: /home/biocbuild/bbs-3.22-bioc/R/bin/R CMD INSTALL SpectraQL StartedAt: 2025-11-11 15:18:46 -0500 (Tue, 11 Nov 2025) EndedAt: 2025-11-11 15:18:56 -0500 (Tue, 11 Nov 2025) EllapsedTime: 9.8 seconds RetCode: 0 Status: OK