Package: SpectraQL Version: 1.2.1 Command: /home/biocbuild/bbs-3.21-bioc/R/bin/R CMD INSTALL SpectraQL StartedAt: 2025-09-28 15:28:56 -0400 (Sun, 28 Sep 2025) EndedAt: 2025-09-28 15:29:04 -0400 (Sun, 28 Sep 2025) EllapsedTime: 7.9 seconds RetCode: 0 Status: OK