Package: SpectraQL Version: 1.2.1 Command: /Library/Frameworks/R.framework/Resources/bin/R CMD build --keep-empty-dirs --no-resave-data SpectraQL StartedAt: 2025-10-13 22:55:56 -0400 (Mon, 13 Oct 2025) EndedAt: 2025-10-13 22:56:41 -0400 (Mon, 13 Oct 2025) EllapsedTime: 45.6 seconds RetCode: 0 Status: OK PackageFile: SpectraQL_1.2.1.tar.gz PackageFileSize: 407.6 KiB