Package: SpectraQL Version: 1.2.1 Command: rm -rf SpectraQL.buildbin-libdir && mkdir SpectraQL.buildbin-libdir && /Users/biocbuild/BBS/utils/build-universal.sh SpectraQL_1.2.1.tar.gz /Library/Frameworks/R.framework/Resources/bin/R SpectraQL.buildbin-libdir StartedAt: 2025-10-14 14:52:24 -0400 (Tue, 14 Oct 2025) EndedAt: 2025-10-14 14:52:54 -0400 (Tue, 14 Oct 2025) EllapsedTime: 29.9 seconds RetCode: 0 Status: OK PackageFile: SpectraQL_1.2.1.tgz PackageFileSize: 428.7 KiB