Package: SpectraQL Version: 1.2.0 Command: /Library/Frameworks/R.framework/Resources/bin/R CMD build --keep-empty-dirs --no-resave-data SpectraQL StartedAt: 2025-04-21 18:34:45 -0400 (Mon, 21 Apr 2025) EndedAt: 2025-04-21 18:35:12 -0400 (Mon, 21 Apr 2025) EllapsedTime: 27.5 seconds RetCode: 0 Status: OK PackageFile: SpectraQL_1.2.0.tar.gz PackageFileSize: 402.7 KiB