Package: SpectraQL Version: 1.2.0 Command: rm -rf SpectraQL.buildbin-libdir && mkdir SpectraQL.buildbin-libdir && /Users/biocbuild/BBS/utils/build-universal.sh SpectraQL_1.2.0.tar.gz /Library/Frameworks/R.framework/Resources/bin/R SpectraQL.buildbin-libdir StartedAt: 2025-04-22 01:11:11 -0400 (Tue, 22 Apr 2025) EndedAt: 2025-04-22 01:11:26 -0400 (Tue, 22 Apr 2025) EllapsedTime: 15.0 seconds RetCode: 0 Status: OK PackageFile: SpectraQL_1.2.0.tgz PackageFileSize: 424.4 KiB