Package: SpectraQL Version: 1.2.1 Command: /Library/Frameworks/R.framework/Resources/bin/R CMD build --keep-empty-dirs --no-resave-data SpectraQL StartedAt: 2025-09-26 09:56:15 -0400 (Fri, 26 Sep 2025) EndedAt: 2025-09-26 09:56:44 -0400 (Fri, 26 Sep 2025) EllapsedTime: 29.5 seconds RetCode: 0 Status: OK PackageFile: SpectraQL_1.2.1.tar.gz PackageFileSize: 407.6 KiB