Package: Spectra Version: 1.20.0 Command: /home/biocbuild/bbs-3.22-bioc/R/bin/R CMD INSTALL Spectra StartedAt: 2025-11-13 15:14:36 -0500 (Thu, 13 Nov 2025) EndedAt: 2025-11-13 15:14:50 -0500 (Thu, 13 Nov 2025) EllapsedTime: 14.3 seconds RetCode: 0 Status: OK