Package: Spectra Version: 1.20.0 Command: /home/biocbuild/bbs-3.22-bioc/R/bin/R CMD build --keep-empty-dirs --no-resave-data --md5 Spectra StartedAt: 2025-11-11 20:24:53 -0500 (Tue, 11 Nov 2025) EndedAt: 2025-11-11 20:25:45 -0500 (Tue, 11 Nov 2025) EllapsedTime: 52.1 seconds RetCode: 0 Status: OK PackageFile: Spectra_1.20.0.tar.gz PackageFileSize: 1.812 MiB