Package: Spectra Version: 1.18.2 Command: /home/biocbuild/R/R/bin/R CMD INSTALL Spectra StartedAt: 2025-10-09 20:27:01 -0000 (Thu, 09 Oct 2025) EndedAt: 2025-10-09 20:27:22 -0000 (Thu, 09 Oct 2025) EllapsedTime: 21.3 seconds RetCode: 0 Status: OK