Package: Spectra Version: 1.18.2 Command: /home/biocbuild/R/R/bin/R CMD build --keep-empty-dirs --no-resave-data Spectra StartedAt: 2025-10-10 04:55:15 -0000 (Fri, 10 Oct 2025) EndedAt: 2025-10-10 04:56:30 -0000 (Fri, 10 Oct 2025) EllapsedTime: 75.0 seconds RetCode: 0 Status: OK PackageFile: Spectra_1.18.2.tar.gz PackageFileSize: 1.705 MiB