| Back to Build/check report for BioC 3.22: simplified long |
|
This page was generated on 2025-11-13 11:55 -0500 (Thu, 13 Nov 2025).
| Hostname | OS | Arch (*) | R version | Installed pkgs |
|---|---|---|---|---|
| taishan | Linux (openEuler 24.03 LTS) | aarch64 | 4.5.0 (2025-04-11) -- "How About a Twenty-Six" | 4668 |
| Click on any hostname to see more info about the system (e.g. compilers) (*) as reported by 'uname -p', except on Windows and Mac OS X | ||||
|
To the developers/maintainers of the Spectra package: - Allow up to 24 hours (and sometimes 48 hours) for your latest push to git@git.bioconductor.org:packages/Spectra.git to reflect on this report. See Troubleshooting Build Report for more information. - Use the following Renviron settings to reproduce errors and warnings. - If 'R CMD check' started to fail recently on the Linux builder(s) over a missing dependency, add the missing dependency to 'Suggests:' in your DESCRIPTION file. See Renviron.bioc for more information. |
| Package 2091/2361 | Hostname | OS / Arch | INSTALL | BUILD | CHECK | BUILD BIN | ||||||||
| Spectra 1.20.0 (landing page) RforMassSpectrometry Package Maintainer
| taishan | Linux (openEuler 24.03 LTS) / aarch64 | OK | OK | OK | |||||||||
| QUICK STATS | OS / Arch | INSTALL | BUILD | CHECK | BUILD BIN | ||||||||||||||
| taishan | Linux (openEuler 24.03 LTS) / aarch64 |
|
|
| |||||||||||||||
| Package 1/17 | Hostname | OS / Arch | INSTALL | BUILD | CHECK | BUILD BIN | |||||||||||||
| Chromatograms 1.0.0 (landing page) Philippine Louail
| taishan | Linux (openEuler 24.03 LTS) / aarch64 | OK | OK | OK | ||||||||||||||
| Package 2/17 | Hostname | OS / Arch | INSTALL | BUILD | CHECK | BUILD BIN | |||||||||||||
| CompoundDb 1.14.0 (landing page) Johannes Rainer
| taishan | Linux (openEuler 24.03 LTS) / aarch64 | OK | OK | OK | ||||||||||||||
| Package 3/17 | Hostname | OS / Arch | INSTALL | BUILD | CHECK | BUILD BIN | |||||||||||||
| hdxmsqc 1.6.0 (landing page) Oliver M. Crook
| taishan | Linux (openEuler 24.03 LTS) / aarch64 | OK | OK | OK | ||||||||||||||
| Package 4/17 | Hostname | OS / Arch | INSTALL | BUILD | CHECK | BUILD BIN | |||||||||||||
| MetaboAnnotation 1.14.0 (landing page) Johannes Rainer
| taishan | Linux (openEuler 24.03 LTS) / aarch64 | OK | OK | OK | ||||||||||||||
| Package 5/17 | Hostname | OS / Arch | INSTALL | BUILD | CHECK | BUILD BIN | |||||||||||||
| MetCirc 1.40.0 (landing page) Thomas Naake
| taishan | Linux (openEuler 24.03 LTS) / aarch64 | OK | OK | OK | ||||||||||||||
| Package 6/17 | Hostname | OS / Arch | INSTALL | BUILD | CHECK | BUILD BIN | |||||||||||||
| MsBackendMassbank 1.18.0 (landing page) RforMassSpectrometry Package Maintainer
| taishan | Linux (openEuler 24.03 LTS) / aarch64 | OK | OK | OK | ||||||||||||||
| Package 7/17 | Hostname | OS / Arch | INSTALL | BUILD | CHECK | BUILD BIN | |||||||||||||
| MsBackendMetaboLights 1.4.2 (landing page) Johannes Rainer
| taishan | Linux (openEuler 24.03 LTS) / aarch64 | OK | OK | OK | ||||||||||||||
| Package 8/17 | Hostname | OS / Arch | INSTALL | BUILD | CHECK | BUILD BIN | |||||||||||||
| MsBackendMgf 1.18.0 (landing page) RforMassSpectrometry Package Maintainer
| taishan | Linux (openEuler 24.03 LTS) / aarch64 | OK | OK | OK | ||||||||||||||
| Package 9/17 | Hostname | OS / Arch | INSTALL | BUILD | CHECK | BUILD BIN | |||||||||||||
| MsBackendMsp 1.14.0 (landing page) Johannes Rainer
| taishan | Linux (openEuler 24.03 LTS) / aarch64 | OK | OK | OK | ||||||||||||||
| Package 10/17 | Hostname | OS / Arch | INSTALL | BUILD | CHECK | BUILD BIN | |||||||||||||
| MsBackendRawFileReader 1.16.0 (landing page) Christian Panse
| taishan | Linux (openEuler 24.03 LTS) / aarch64 | OK | ERROR | skipped | ||||||||||||||
| Package 11/17 | Hostname | OS / Arch | INSTALL | BUILD | CHECK | BUILD BIN | |||||||||||||
| MsBackendSql 1.10.1 (landing page) Johannes Rainer
| taishan | Linux (openEuler 24.03 LTS) / aarch64 | OK | OK | OK | ||||||||||||||
| Package 12/17 | Hostname | OS / Arch | INSTALL | BUILD | CHECK | BUILD BIN | |||||||||||||
| MsExperiment 1.12.0 (landing page) Laurent Gatto
| taishan | Linux (openEuler 24.03 LTS) / aarch64 | OK | OK | OK | ||||||||||||||
| Package 13/17 | Hostname | OS / Arch | INSTALL | BUILD | CHECK | BUILD BIN | |||||||||||||
| MsQuality 1.10.0 (landing page) Thomas Naake
| taishan | Linux (openEuler 24.03 LTS) / aarch64 | OK | OK | TIMEOUT | ||||||||||||||
| Package 14/17 | Hostname | OS / Arch | INSTALL | BUILD | CHECK | BUILD BIN | |||||||||||||
| PSMatch 1.14.0 (landing page) Laurent Gatto
| taishan | Linux (openEuler 24.03 LTS) / aarch64 | OK | OK | OK | ||||||||||||||
| Package 15/17 | Hostname | OS / Arch | INSTALL | BUILD | CHECK | BUILD BIN | |||||||||||||
| SpectraQL 1.4.0 (landing page) Johannes Rainer
| taishan | Linux (openEuler 24.03 LTS) / aarch64 | OK | OK | OK | ||||||||||||||
| Package 16/17 | Hostname | OS / Arch | INSTALL | BUILD | CHECK | BUILD BIN | |||||||||||||
| SpectriPy 1.0.0 (landing page) Johannes Rainer
| taishan | Linux (openEuler 24.03 LTS) / aarch64 | OK | OK | OK | ||||||||||||||
| Package 17/17 | Hostname | OS / Arch | INSTALL | BUILD | CHECK | BUILD BIN | |||||||||||||
| xcms 4.8.0 (landing page) Steffen Neumann
| taishan | Linux (openEuler 24.03 LTS) / aarch64 | OK | OK | OK | ||||||||||||||