Package: SpeCond Version: 1.64.0 Command: /home/biocbuild/bbs-3.22-bioc/R/bin/R CMD build --keep-empty-dirs --no-resave-data --md5 SpeCond StartedAt: 2025-11-11 20:24:42 -0500 (Tue, 11 Nov 2025) EndedAt: 2025-11-11 20:25:29 -0500 (Tue, 11 Nov 2025) EllapsedTime: 47.1 seconds RetCode: 0 Status: OK PackageFile: SpeCond_1.64.0.tar.gz PackageFileSize: 1.701 MiB