Package: SpeCond Version: 1.62.0 Command: /home/biocbuild/R/R/bin/R CMD INSTALL SpeCond StartedAt: 2025-10-13 20:25:16 -0000 (Mon, 13 Oct 2025) EndedAt: 2025-10-13 20:25:25 -0000 (Mon, 13 Oct 2025) EllapsedTime: 9.6 seconds RetCode: 0 Status: OK