Package: SpeCond Version: 1.62.0 Command: /home/biocbuild/R/R/bin/R CMD build --keep-empty-dirs --no-resave-data SpeCond StartedAt: 2025-10-14 05:00:10 -0000 (Tue, 14 Oct 2025) EndedAt: 2025-10-14 05:01:14 -0000 (Tue, 14 Oct 2025) EllapsedTime: 64.0 seconds RetCode: 0 Status: OK PackageFile: SpeCond_1.62.0.tar.gz PackageFileSize: 1.697 MiB