Package: SpeCond Version: 1.64.0 Command: /Library/Frameworks/R.framework/Resources/bin/R CMD INSTALL SpeCond StartedAt: 2025-10-31 15:11:21 -0400 (Fri, 31 Oct 2025) EndedAt: 2025-10-31 15:11:25 -0400 (Fri, 31 Oct 2025) EllapsedTime: 3.5 seconds RetCode: 0 Status: OK