Package: SpeCond Version: 1.64.0 Command: rm -rf SpeCond.buildbin-libdir && mkdir SpeCond.buildbin-libdir && /Users/biocbuild/BBS/utils/build-universal.sh SpeCond_1.64.0.tar.gz /Library/Frameworks/R.framework/Resources/bin/R SpeCond.buildbin-libdir StartedAt: 2025-10-31 23:25:01 -0400 (Fri, 31 Oct 2025) EndedAt: 2025-10-31 23:25:04 -0400 (Fri, 31 Oct 2025) EllapsedTime: 3.1 seconds RetCode: 0 Status: OK PackageFile: SpeCond_1.64.0.tgz PackageFileSize: 1.198 MiB