Package: SpatialOmicsOverlay Version: 1.10.0 Command: /home/biocbuild/R/R/bin/R CMD INSTALL SpatialOmicsOverlay StartedAt: 2025-11-13 21:23:27 -0000 (Thu, 13 Nov 2025) EndedAt: 2025-11-13 21:24:08 -0000 (Thu, 13 Nov 2025) EllapsedTime: 41.8 seconds RetCode: 0 Status: OK