Package: SpatialOmicsOverlay Version: 1.10.0 Command: /home/biocbuild/R/R/bin/R CMD build --keep-empty-dirs --no-resave-data SpatialOmicsOverlay StartedAt: 2025-11-14 05:36:19 -0000 (Fri, 14 Nov 2025) EndedAt: 2025-11-14 06:16:19 -0000 (Fri, 14 Nov 2025) EllapsedTime: 2400.1 seconds RetCode: None Status: TIMEOUT PackageFile: None PackageFileSize: NA