Package: SpatialOmicsOverlay Version: 1.10.0 Command: /home/biocbuild/bbs-3.22-bioc/R/bin/R CMD check --install=check:SpatialOmicsOverlay.install-out.txt --library=/home/biocbuild/bbs-3.22-bioc/R/site-library --timings SpatialOmicsOverlay_1.10.0.tar.gz StartedAt: 2025-11-12 04:28:37 -0500 (Wed, 12 Nov 2025) EndedAt: 2025-11-12 04:43:42 -0500 (Wed, 12 Nov 2025) EllapsedTime: 905.8 seconds RetCode: 0 Status: OK CheckDir: SpatialOmicsOverlay.Rcheck Warnings: 0