Package: SpatialOmicsOverlay Version: 1.10.0 Command: /home/biocbuild/bbs-3.22-bioc/R/bin/R CMD build --keep-empty-dirs --no-resave-data --md5 SpatialOmicsOverlay StartedAt: 2025-11-11 20:23:53 -0500 (Tue, 11 Nov 2025) EndedAt: 2025-11-11 20:31:11 -0500 (Tue, 11 Nov 2025) EllapsedTime: 437.4 seconds RetCode: 0 Status: OK PackageFile: SpatialOmicsOverlay_1.10.0.tar.gz PackageFileSize: 4.353 MiB