Package: SpatialOmicsOverlay Version: 1.8.1 Command: /home/biocbuild/bbs-3.21-bioc/R/bin/R CMD INSTALL SpatialOmicsOverlay StartedAt: 2025-10-08 15:16:16 -0400 (Wed, 08 Oct 2025) EndedAt: 2025-10-08 15:16:47 -0400 (Wed, 08 Oct 2025) EllapsedTime: 30.6 seconds RetCode: 0 Status: OK