Package: SpatialOmicsOverlay Version: 1.8.1 Command: /Library/Frameworks/R.framework/Resources/bin/R CMD INSTALL SpatialOmicsOverlay StartedAt: 2025-10-06 15:43:33 -0400 (Mon, 06 Oct 2025) EndedAt: 2025-10-06 15:44:12 -0400 (Mon, 06 Oct 2025) EllapsedTime: 39.4 seconds RetCode: 0 Status: OK