Package: SpatialOmicsOverlay Version: 1.8.1 Command: /Library/Frameworks/R.framework/Resources/bin/R CMD build --keep-empty-dirs --no-resave-data SpatialOmicsOverlay StartedAt: 2025-10-07 10:31:24 -0400 (Tue, 07 Oct 2025) EndedAt: 2025-10-07 10:40:03 -0400 (Tue, 07 Oct 2025) EllapsedTime: 519.2 seconds RetCode: 0 Status: OK PackageFile: SpatialOmicsOverlay_1.8.1.tar.gz PackageFileSize: 4.5 MiB