Package: SpatialOmicsOverlay Version: 1.8.1 Maintainer: Maddy Griswold MaintainerEmail: mgriswold at nanostring.com git_url: https://git.bioconductor.org/packages/SpatialOmicsOverlay git_branch: RELEASE_3_21 git_last_commit: fa91a50 git_last_commit_date: 2025-09-29 13:59:21 -0400 (Mon, 29 Sep 2025)