Package: SpatialFeatureExperiment Version: 1.12.1 Command: /home/biocbuild/R/R/bin/R CMD INSTALL SpatialFeatureExperiment StartedAt: 2025-11-10 21:47:01 -0000 (Mon, 10 Nov 2025) EndedAt: 2025-11-10 21:48:23 -0000 (Mon, 10 Nov 2025) EllapsedTime: 82.7 seconds RetCode: 0 Status: OK