Package: SpatialFeatureExperiment Version: 1.12.1 Command: /home/biocbuild/R/R/bin/R CMD check --install=check:SpatialFeatureExperiment.install-out.txt --library=/home/biocbuild/R/R/site-library --no-vignettes --timings SpatialFeatureExperiment_1.12.1.tar.gz StartedAt: 2025-11-14 15:06:43 -0000 (Fri, 14 Nov 2025) EndedAt: 2025-11-14 15:46:31 -0000 (Fri, 14 Nov 2025) EllapsedTime: 2387.8 seconds RetCode: 1 Status: ERROR CheckDir: SpatialFeatureExperiment.Rcheck Warnings: NA