Package: SpatialFeatureExperiment Version: 1.12.1 Command: /home/biocbuild/R/R/bin/R CMD build --keep-empty-dirs --no-resave-data SpatialFeatureExperiment StartedAt: 2025-11-11 05:24:55 -0000 (Tue, 11 Nov 2025) EndedAt: 2025-11-11 05:28:21 -0000 (Tue, 11 Nov 2025) EllapsedTime: 206.1 seconds RetCode: 0 Status: OK PackageFile: SpatialFeatureExperiment_1.12.1.tar.gz PackageFileSize: 1.846 MiB