Package: SpatialFeatureExperiment Version: 1.12.1 Command: /home/biocbuild/bbs-3.22-bioc/R/bin/R CMD check --install=check:SpatialFeatureExperiment.install-out.txt --library=/home/biocbuild/bbs-3.22-bioc/R/site-library --timings SpatialFeatureExperiment_1.12.1.tar.gz StartedAt: 2025-11-12 04:28:35 -0500 (Wed, 12 Nov 2025) EndedAt: 2025-11-12 04:49:16 -0500 (Wed, 12 Nov 2025) EllapsedTime: 1241.1 seconds RetCode: 0 Status: OK CheckDir: SpatialFeatureExperiment.Rcheck Warnings: 0