Package: SpatialExperimentIO Version: 1.2.0 Command: /home/biocbuild/R/R/bin/R CMD INSTALL SpatialExperimentIO StartedAt: 2025-11-10 21:59:32 -0000 (Mon, 10 Nov 2025) EndedAt: 2025-11-10 22:00:11 -0000 (Mon, 10 Nov 2025) EllapsedTime: 38.8 seconds RetCode: 0 Status: OK