Package: SpatialExperimentIO Version: 1.2.0 Command: /home/biocbuild/R/R/bin/R CMD build --keep-empty-dirs --no-resave-data SpatialExperimentIO StartedAt: 2025-11-11 05:24:27 -0000 (Tue, 11 Nov 2025) EndedAt: 2025-11-11 05:25:28 -0000 (Tue, 11 Nov 2025) EllapsedTime: 61.0 seconds RetCode: 0 Status: OK PackageFile: SpatialExperimentIO_1.2.0.tar.gz PackageFileSize: 633.4 KiB