Package: SpatialExperimentIO Version: 1.0.0 Command: /home/biocbuild/bbs-3.21-bioc/R/bin/R CMD check --install=check:SpatialExperimentIO.install-out.txt --library=/home/biocbuild/bbs-3.21-bioc/R/site-library --timings SpatialExperimentIO_1.0.0.tar.gz StartedAt: 2025-10-16 03:53:56 -0400 (Thu, 16 Oct 2025) EndedAt: 2025-10-16 03:57:56 -0400 (Thu, 16 Oct 2025) EllapsedTime: 239.2 seconds RetCode: 0 Status: OK CheckDir: SpatialExperimentIO.Rcheck Warnings: 0