Package: SpatialExperimentIO Version: 1.0.0 Command: /Library/Frameworks/R.framework/Resources/bin/R CMD check --install=check:SpatialExperimentIO.install-out.txt --library=/Library/Frameworks/R.framework/Resources/library --no-vignettes --timings SpatialExperimentIO_1.0.0.tar.gz StartedAt: 2025-10-15 13:37:22 -0400 (Wed, 15 Oct 2025) EndedAt: 2025-10-15 13:41:42 -0400 (Wed, 15 Oct 2025) EllapsedTime: 260.1 seconds RetCode: 0 Status: OK CheckDir: SpatialExperimentIO.Rcheck Warnings: 0