Package: SpatialExperimentIO Version: 1.0.0 Command: /Library/Frameworks/R.framework/Resources/bin/R CMD build --keep-empty-dirs --no-resave-data SpatialExperimentIO StartedAt: 2025-09-26 09:50:30 -0400 (Fri, 26 Sep 2025) EndedAt: 2025-09-26 09:51:30 -0400 (Fri, 26 Sep 2025) EllapsedTime: 59.9 seconds RetCode: 0 Status: OK PackageFile: SpatialExperimentIO_1.0.0.tar.gz PackageFileSize: 608.1 KiB