Package: SpatialExperimentIO Version: 1.0.0 Command: rm -rf SpatialExperimentIO.buildbin-libdir && mkdir SpatialExperimentIO.buildbin-libdir && /Users/biocbuild/BBS/utils/build-universal.sh SpatialExperimentIO_1.0.0.tar.gz /Library/Frameworks/R.framework/Resources/bin/R SpatialExperimentIO.buildbin-libdir StartedAt: 2025-09-27 19:38:15 -0400 (Sat, 27 Sep 2025) EndedAt: 2025-09-27 19:38:57 -0400 (Sat, 27 Sep 2025) EllapsedTime: 41.7 seconds RetCode: 0 Status: OK PackageFile: SpatialExperimentIO_1.0.0.tgz PackageFileSize: 648.4 KiB