Package: SpatialExperiment Version: 1.20.0 Command: /home/biocbuild/bbs-3.22-bioc/R/bin/R CMD INSTALL SpatialExperiment StartedAt: 2025-11-11 15:23:49 -0500 (Tue, 11 Nov 2025) EndedAt: 2025-11-11 15:24:13 -0500 (Tue, 11 Nov 2025) EllapsedTime: 24.1 seconds RetCode: 0 Status: OK