Package: SpatialExperiment Version: 1.20.0 Command: /home/biocbuild/bbs-3.22-bioc/R/bin/R CMD build --keep-empty-dirs --no-resave-data --md5 SpatialExperiment StartedAt: 2025-11-11 20:22:45 -0500 (Tue, 11 Nov 2025) EndedAt: 2025-11-11 20:23:46 -0500 (Tue, 11 Nov 2025) EllapsedTime: 61.0 seconds RetCode: 0 Status: OK PackageFile: SpatialExperiment_1.20.0.tar.gz PackageFileSize: 5.159 MiB