Package: SpatialExperiment Version: 1.18.1 Command: /Library/Frameworks/R.framework/Resources/bin/R CMD INSTALL SpatialExperiment StartedAt: 2025-10-09 15:33:26 -0400 (Thu, 09 Oct 2025) EndedAt: 2025-10-09 15:34:23 -0400 (Thu, 09 Oct 2025) EllapsedTime: 56.7 seconds RetCode: 0 Status: OK