Package: SpatialExperiment Version: 1.18.1 Command: /Library/Frameworks/R.framework/Resources/bin/R CMD build --keep-empty-dirs --no-resave-data SpatialExperiment StartedAt: 2025-10-09 22:53:35 -0400 (Thu, 09 Oct 2025) EndedAt: 2025-10-09 22:55:45 -0400 (Thu, 09 Oct 2025) EllapsedTime: 130.4 seconds RetCode: 0 Status: OK PackageFile: SpatialExperiment_1.18.1.tar.gz PackageFileSize: 5.687 MiB