Package: SpatialExperiment Version: 1.18.1 Command: rm -rf SpatialExperiment.buildbin-libdir && mkdir SpatialExperiment.buildbin-libdir && /Users/biocbuild/BBS/utils/build-universal.sh SpatialExperiment_1.18.1.tar.gz /Library/Frameworks/R.framework/Resources/bin/R SpatialExperiment.buildbin-libdir StartedAt: 2025-10-10 14:52:05 -0400 (Fri, 10 Oct 2025) EndedAt: 2025-10-10 14:53:09 -0400 (Fri, 10 Oct 2025) EllapsedTime: 64.5 seconds RetCode: 0 Status: OK PackageFile: SpatialExperiment_1.18.1.tgz PackageFileSize: 6.009 MiB