Package: SpatialExperiment Version: 1.18.1 Command: /home/biocbuild/R/R/bin/R CMD build --keep-empty-dirs --no-resave-data SpatialExperiment StartedAt: 2025-09-26 06:13:58 -0000 (Fri, 26 Sep 2025) EndedAt: 2025-09-26 06:15:21 -0000 (Fri, 26 Sep 2025) EllapsedTime: 83.0 seconds RetCode: 0 Status: OK PackageFile: SpatialExperiment_1.18.1.tar.gz PackageFileSize: 5.223 MiB