Package: SpatialDecon Version: 1.20.0 Command: /home/biocbuild/R/R/bin/R CMD build --keep-empty-dirs --no-resave-data SpatialDecon StartedAt: 2025-11-11 05:23:58 -0000 (Tue, 11 Nov 2025) EndedAt: 2025-11-11 05:28:32 -0000 (Tue, 11 Nov 2025) EllapsedTime: 274.1 seconds RetCode: 0 Status: OK PackageFile: SpatialDecon_1.20.0.tar.gz PackageFileSize: 4.385 MiB