Package: SpatialDecon Version: 1.20.0 Command: /home/biocbuild/bbs-3.22-bioc/R/bin/R CMD check --install=check:SpatialDecon.install-out.txt --library=/home/biocbuild/bbs-3.22-bioc/R/site-library --timings SpatialDecon_1.20.0.tar.gz StartedAt: 2025-11-12 04:25:59 -0500 (Wed, 12 Nov 2025) EndedAt: 2025-11-12 04:37:12 -0500 (Wed, 12 Nov 2025) EllapsedTime: 673.6 seconds RetCode: 0 Status: OK CheckDir: SpatialDecon.Rcheck Warnings: 0