Package: SpatialCPie Version: 1.26.0 Command: /home/biocbuild/bbs-3.22-bioc/R/bin/R CMD INSTALL SpatialCPie StartedAt: 2025-11-11 15:21:34 -0500 (Tue, 11 Nov 2025) EndedAt: 2025-11-11 15:21:58 -0500 (Tue, 11 Nov 2025) EllapsedTime: 23.5 seconds RetCode: 0 Status: OK