Package: SpatialCPie Version: 1.26.0 Command: /home/biocbuild/bbs-3.22-bioc/R/bin/R CMD check --install=check:SpatialCPie.install-out.txt --library=/home/biocbuild/bbs-3.22-bioc/R/site-library --timings SpatialCPie_1.26.0.tar.gz StartedAt: 2025-11-12 04:25:11 -0500 (Wed, 12 Nov 2025) EndedAt: 2025-11-12 04:28:29 -0500 (Wed, 12 Nov 2025) EllapsedTime: 197.1 seconds RetCode: 0 Status: OK CheckDir: SpatialCPie.Rcheck Warnings: 0