Package: SpatialCPie Version: 1.26.0 Command: /home/biocbuild/bbs-3.22-bioc/R/bin/R CMD build --keep-empty-dirs --no-resave-data --md5 SpatialCPie StartedAt: 2025-11-11 20:22:17 -0500 (Tue, 11 Nov 2025) EndedAt: 2025-11-11 20:23:07 -0500 (Tue, 11 Nov 2025) EllapsedTime: 50.0 seconds RetCode: 0 Status: OK PackageFile: SpatialCPie_1.26.0.tar.gz PackageFileSize: 993.3 KiB